BEGIN:VCALENDAR
VERSION:2.0
PRODID:-//Zen4Blue - ECPv6.15.20//NONSGML v1.0//EN
CALSCALE:GREGORIAN
METHOD:PUBLISH
X-ORIGINAL-URL:https://zen4blue.org
X-WR-CALDESC:Events for Zen4Blue
REFRESH-INTERVAL;VALUE=DURATION:PT1H
X-Robots-Tag:noindex
X-PUBLISHED-TTL:PT1H
BEGIN:VTIMEZONE
TZID:America/New_York
BEGIN:DAYLIGHT
TZOFFSETFROM:-0500
TZOFFSETTO:-0400
TZNAME:EDT
DTSTART:20220313T070000
END:DAYLIGHT
BEGIN:STANDARD
TZOFFSETFROM:-0400
TZOFFSETTO:-0500
TZNAME:EST
DTSTART:20221106T060000
END:STANDARD
BEGIN:DAYLIGHT
TZOFFSETFROM:-0500
TZOFFSETTO:-0400
TZNAME:EDT
DTSTART:20230312T070000
END:DAYLIGHT
BEGIN:STANDARD
TZOFFSETFROM:-0400
TZOFFSETTO:-0500
TZNAME:EST
DTSTART:20231105T060000
END:STANDARD
BEGIN:DAYLIGHT
TZOFFSETFROM:-0500
TZOFFSETTO:-0400
TZNAME:EDT
DTSTART:20240310T070000
END:DAYLIGHT
BEGIN:STANDARD
TZOFFSETFROM:-0400
TZOFFSETTO:-0500
TZNAME:EST
DTSTART:20241103T060000
END:STANDARD
BEGIN:DAYLIGHT
TZOFFSETFROM:-0500
TZOFFSETTO:-0400
TZNAME:EDT
DTSTART:20250309T070000
END:DAYLIGHT
BEGIN:STANDARD
TZOFFSETFROM:-0400
TZOFFSETTO:-0500
TZNAME:EST
DTSTART:20251102T060000
END:STANDARD
BEGIN:DAYLIGHT
TZOFFSETFROM:-0500
TZOFFSETTO:-0400
TZNAME:EDT
DTSTART:20260308T070000
END:DAYLIGHT
BEGIN:STANDARD
TZOFFSETFROM:-0400
TZOFFSETTO:-0500
TZNAME:EST
DTSTART:20261101T060000
END:STANDARD
END:VTIMEZONE
BEGIN:VEVENT
DTSTART;TZID=America/New_York:20250806T200000
DTEND;TZID=America/New_York:20250806T210000
DTSTAMP:20260422T203832
CREATED:20250703T212022Z
LAST-MODIFIED:20250703T212022Z
UID:3655-1754510400-1754514000@zen4blue.org
SUMMARY:Zen4Blue Seaside Tales VIRTUAL Book Club! Essay #6
DESCRIPTION:Join us for an INSTAGRAM LIVE VIRTUAL evening of seaside tales and “wine” down with stories of ocean adventure! Follow @Zen4Blue and join the fun! \nThe first book selected is a collection of sea life essays by Sabrina Embler  \n“How Far The Light Reaches: A Life In Ten Sea Creatures” \nEach month we will read and discuss one essay from this marvelous marine collection starting with  \nEssay #6 “Beware The Sand Striker”  \nWednesday August 6\, 2025 8pm-9pm EST \nAND don’t forget to grab your Book Club Bundle from the gift shop! \nClick below to get yours today! \nhttps://www.zen4blue.org/product/zen4blue-book-club-bundle \nFrom the Author’s Bio and online promotional content: \nA fascinating tour of creatures from the surface to the deepest ocean floor: this “miraculous\, transcendental book” invites us to envision wilder\, grander\, and more abundant possibilities for the way we live (Ed Yong\, author of An Immense World). \n 
URL:https://zen4blue.org/event/zen4blue-seaside-tales-virtual-book-club-essay-6/
CATEGORIES:Fundraisers
ATTACH;FMTTYPE=image/jpeg:https://zen4blue.org/wp-content/uploads/2025/07/IMG_5153.jpg
END:VEVENT
BEGIN:VEVENT
DTSTART;TZID=America/New_York:20250604T200000
DTEND;TZID=America/New_York:20250604T210000
DTSTAMP:20260422T203832
CREATED:20250528T125611Z
LAST-MODIFIED:20250528T131222Z
UID:3598-1749067200-1749070800@zen4blue.org
SUMMARY:Zen4Blue Seaside Tales VIRTUAL Book Club! Essay #5
DESCRIPTION:Join us for a VIRTUAL evening of seaside tales and “wine” down with stories of ocean adventure! \nThe first book selected is a collection of sea life essays by Sabrina Embler  \n“How Far The Light Reaches: A Life In Ten Sea Creatures” \nEach month we will read and discuss one essay from this marvelous marine collection starting with  \nEssay #5 “Pure Life”  \nJune 4\, 2025 8pm-9pm EST \nRegister Below Via Email: \nevents@zen4blue.org \nAND don’t forget to grab your Book Club Bundle from the gift shop! \nClick below to get yours today! \nhttps://www.zen4blue.org/product/zen4blue-book-club-bundle \nFrom the Author’s Bio and online promotional content: \nA fascinating tour of creatures from the surface to the deepest ocean floor: this “miraculous\, transcendental book” invites us to envision wilder\, grander\, and more abundant possibilities for the way we live (Ed Yong\, author of An Immense World). \n 
URL:https://zen4blue.org/event/zen4blue-seaside-tales-virtual-book-club-essay-5/
CATEGORIES:Fundraisers
ATTACH;FMTTYPE=image/jpeg:https://zen4blue.org/wp-content/uploads/2025/05/IMG_4106.jpg
END:VEVENT
BEGIN:VEVENT
DTSTART;TZID=America/New_York:20250326T200000
DTEND;TZID=America/New_York:20250326T210000
DTSTAMP:20260422T203832
CREATED:20250306T022226Z
LAST-MODIFIED:20250306T022226Z
UID:3389-1743019200-1743022800@zen4blue.org
SUMMARY:Zen4Blue Seaside Tales VIRTUAL Book Club! Essay #3
DESCRIPTION:Join us for a VIRTUAL evening of seaside tales and “wine” down with stories of ocean adventure! \nThe first book selected is a collection of sea life essays by Sabrina Embler  \n“How Far The Light Reaches: A Life In Ten Sea Creatures” \nEach month we will read and discuss one essay from this marvelous marine collection starting with  \nEssay #3 “My Grandmother and the Sturgeon”  \nMarch 26\, 2025 8pm-9pm EST \nRegister Below: \nhttps://www.zeffy.com/ticketing/essay-3-seaside-tales-virtual-book-club \nAND don’t forget to grab your Book Club Bundle from the gift shop! \nClick below to get yours today! \nhttps://www.zen4blue.org/product/zen4blue-book-club-bundle \nFrom the Author’s Bio and online promotional content: \nA fascinating tour of creatures from the surface to the deepest ocean floor: this “miraculous\, transcendental book” invites us to envision wilder\, grander\, and more abundant possibilities for the way we live (Ed Yong\, author of An Immense World). \n 
URL:https://zen4blue.org/event/zen4blue-seaside-tales-virtual-book-club-essay-3/
CATEGORIES:Fundraisers
ATTACH;FMTTYPE=image/png:https://zen4blue.org/wp-content/uploads/2025/03/Virtual-Book-Club-March.png
END:VEVENT
BEGIN:VEVENT
DTSTART;TZID=America/New_York:20250226T200000
DTEND;TZID=America/New_York:20250226T210000
DTSTAMP:20260422T203832
CREATED:20250208T184237Z
LAST-MODIFIED:20250208T184237Z
UID:3261-1740600000-1740603600@zen4blue.org
SUMMARY:Zen4Blue Seaside Tales VIRTUAL Book Club! Essay #2
DESCRIPTION:Join us for a VIRTUAL evening of seaside tales and “wine” down with stories of ocean adventure! \nThe first book selected is a collection of sea life essays by Sabrina Embler  \n“How Far The Light Reaches: A Life In Ten Sea Creatures” \nEach month we will read and discuss one essay from this marvelous marine collection starting with  \nEssay #2 “My Mother and the Starving Octopus” February 26\, 2025 8pm-9pm EST \nRegister Below: \nhttps://www.zeffy.com/ticketing/essay-2-seaside-tales-virtual-book-club \nAND don’t forget to grab your Book Club Bundle from the gift shop! \nClick below to get yours today! \nhttps://www.zen4blue.org/product/zen4blue-book-club-bundle \nFrom the Author’s Bio and online promotional content: \nA fascinating tour of creatures from the surface to the deepest ocean floor: this “miraculous\, transcendental book” invites us to envision wilder\, grander\, and more abundant possibilities for the way we live (Ed Yong\, author of An Immense World). \n 
URL:https://zen4blue.org/event/zen4blue-seaside-tales-virtual-book-club-essay-2/
CATEGORIES:Fundraisers
ATTACH;FMTTYPE=image/png:https://zen4blue.org/wp-content/uploads/2025/02/Virtual-Book-Club-February.png
END:VEVENT
BEGIN:VEVENT
DTSTART;TZID=America/New_York:20250129T200000
DTEND;TZID=America/New_York:20250129T210000
DTSTAMP:20260422T203832
CREATED:20250112T191205Z
LAST-MODIFIED:20250117T191832Z
UID:3164-1738180800-1738184400@zen4blue.org
SUMMARY:Zen4Blue Seaside Tales VIRTUAL Book Club!
DESCRIPTION:Join us for a VIRTUAL evening of seaside tales and “wine” down with stories of ocean adventure! \nThe first book selected is a collection of sea life essays by Sabrina Embler  \n“How Far The Light Reaches: A Life In Ten Sea Creatures” \nEach month we will read and discuss one essay from this marvelous marine collection starting with  \nEssay #1 “If You Flush A Goldfish” January 29\, 2025 8pm-9pm EST \nFrom the Author’s Bio and online promotional content: \nA fascinating tour of creatures from the surface to the deepest ocean floor: this “miraculous\, transcendental book” invites us to envision wilder\, grander\, and more abundant possibilities for the way we live (Ed Yong\, author of An Immense World). \n 
URL:https://zen4blue.org/event/zen4blue-seaside-tales-virtual-book-club/
CATEGORIES:Fundraisers
ATTACH;FMTTYPE=image/png:https://zen4blue.org/wp-content/uploads/2025/01/Virtual-Book-Club.png
END:VEVENT
BEGIN:VEVENT
DTSTART;TZID=America/New_York:20250128T180000
DTEND;TZID=America/New_York:20250128T200000
DTSTAMP:20260422T203832
CREATED:20250125T181509Z
LAST-MODIFIED:20250125T182204Z
UID:3178-1738087200-1738094400@zen4blue.org
SUMMARY:Charity Bingo Saint Petersburg\, FL
DESCRIPTION: 
URL:https://zen4blue.org/event/bingo/
CATEGORIES:Fundraisers
ATTACH;FMTTYPE=image/png:https://zen4blue.org/wp-content/uploads/2025/01/3-Daughters-Bingo-Jan.png.png
END:VEVENT
BEGIN:VEVENT
DTSTART;TZID=America/New_York:20241217T040000
DTEND;TZID=America/New_York:20241217T235900
DTSTAMP:20260422T203832
CREATED:20250125T184213Z
LAST-MODIFIED:20250125T184213Z
UID:3204-1734408000-1734479940@zen4blue.org
SUMMARY:Zen4Blue Virtual Trivia
DESCRIPTION: 
URL:https://zen4blue.org/event/zen4blue-virtual-trivia-6/
CATEGORIES:Fundraisers
ATTACH;FMTTYPE=image/png:https://zen4blue.org/wp-content/uploads/2025/01/Virtual-Trivia.png
END:VEVENT
BEGIN:VEVENT
DTSTART;TZID=America/New_York:20241210T040000
DTEND;TZID=America/New_York:20241210T235900
DTSTAMP:20260422T203832
CREATED:20250125T184135Z
LAST-MODIFIED:20250125T184135Z
UID:3202-1733803200-1733875140@zen4blue.org
SUMMARY:Zen4Blue Virtual Trivia
DESCRIPTION: 
URL:https://zen4blue.org/event/zen4blue-virtual-trivia-5/
CATEGORIES:Fundraisers
ATTACH;FMTTYPE=image/png:https://zen4blue.org/wp-content/uploads/2025/01/Virtual-Trivia.png
END:VEVENT
BEGIN:VEVENT
DTSTART;TZID=America/New_York:20241203T040000
DTEND;TZID=America/New_York:20241203T235900
DTSTAMP:20260422T203832
CREATED:20250125T184045Z
LAST-MODIFIED:20250125T184045Z
UID:3200-1733198400-1733270340@zen4blue.org
SUMMARY:Zen4Blue Virtual Trivia
DESCRIPTION: 
URL:https://zen4blue.org/event/zen4blue-virtual-trivia-4/
CATEGORIES:Fundraisers
ATTACH;FMTTYPE=image/png:https://zen4blue.org/wp-content/uploads/2025/01/Virtual-Trivia.png
END:VEVENT
BEGIN:VEVENT
DTSTART;TZID=America/New_York:20241126T040000
DTEND;TZID=America/New_York:20241126T235900
DTSTAMP:20260422T203832
CREATED:20250125T184006Z
LAST-MODIFIED:20250125T184006Z
UID:3198-1732593600-1732665540@zen4blue.org
SUMMARY:Zen4Blue Virtual Trivia
DESCRIPTION: 
URL:https://zen4blue.org/event/zen4blue-virtual-trivia-3/
CATEGORIES:Fundraisers
ATTACH;FMTTYPE=image/png:https://zen4blue.org/wp-content/uploads/2025/01/Virtual-Trivia.png
END:VEVENT
BEGIN:VEVENT
DTSTART;TZID=America/New_York:20241119T040000
DTEND;TZID=America/New_York:20241119T235900
DTSTAMP:20260422T203832
CREATED:20250125T183916Z
LAST-MODIFIED:20250125T183916Z
UID:3196-1731988800-1732060740@zen4blue.org
SUMMARY:Zen4Blue Virtual Trivia
DESCRIPTION: 
URL:https://zen4blue.org/event/zen4blue-virtual-trivia-2/
CATEGORIES:Fundraisers
ATTACH;FMTTYPE=image/png:https://zen4blue.org/wp-content/uploads/2025/01/Virtual-Trivia.png
END:VEVENT
BEGIN:VEVENT
DTSTART;TZID=America/New_York:20241112T040000
DTEND;TZID=America/New_York:20241112T235900
DTSTAMP:20260422T203832
CREATED:20250125T183713Z
LAST-MODIFIED:20250125T183713Z
UID:3193-1731384000-1731455940@zen4blue.org
SUMMARY:Zen4Blue Virtual Trivia
DESCRIPTION: 
URL:https://zen4blue.org/event/zen4blue-virtual-trivia/
CATEGORIES:Fundraisers
ATTACH;FMTTYPE=image/png:https://zen4blue.org/wp-content/uploads/2025/01/Virtual-Trivia.png
END:VEVENT
BEGIN:VEVENT
DTSTART;TZID=America/New_York:20241012T120000
DTEND;TZID=America/New_York:20241012T150000
DTSTAMP:20260422T203832
CREATED:20250125T185019Z
LAST-MODIFIED:20250125T185109Z
UID:3211-1728734400-1728745200@zen4blue.org
SUMMARY:Zen4Blue Jewelry Pop-Up CA
DESCRIPTION: 
URL:https://zen4blue.org/event/zen4blue-jewelry-pop-up/
CATEGORIES:Fundraisers
ATTACH;FMTTYPE=image/png:https://zen4blue.org/wp-content/uploads/2024/09/Zen4Blue-Jewelry-Pop-Up-1.png
END:VEVENT
BEGIN:VEVENT
DTSTART;VALUE=DATE:20241005
DTEND;VALUE=DATE:20241006
DTSTAMP:20260422T203832
CREATED:20250125T182834Z
LAST-MODIFIED:20250125T182910Z
UID:3188-1728086400-1728172799@zen4blue.org
SUMMARY:Zen4Blue Halloween Decor Classes
DESCRIPTION: 
URL:https://zen4blue.org/event/halloween24/
CATEGORIES:Fundraisers
ATTACH;FMTTYPE=image/png:https://zen4blue.org/wp-content/uploads/2024/09/Event-Square-.png
END:VEVENT
BEGIN:VEVENT
DTSTART;TZID=America/New_York:20240929T150000
DTEND;TZID=America/New_York:20240929T170000
DTSTAMP:20260422T203832
CREATED:20250125T183158Z
LAST-MODIFIED:20250125T183158Z
UID:3191-1727622000-1727629200@zen4blue.org
SUMMARY:Zen4Blue Job Fair and Ice Cream Social
DESCRIPTION: 
URL:https://zen4blue.org/event/zen4blue-icecream/
CATEGORIES:Fundraisers
ATTACH;FMTTYPE=image/jpeg:https://zen4blue.org/wp-content/uploads/2024/09/Ice-Cream-Social.jpeg
END:VEVENT
BEGIN:VEVENT
DTSTART;TZID=America/New_York:20240925T170000
DTEND;TZID=America/New_York:20240925T190000
DTSTAMP:20260422T203832
CREATED:20250125T181848Z
LAST-MODIFIED:20250125T182131Z
UID:3181-1727283600-1727290800@zen4blue.org
SUMMARY:Charity Bingo Calera AL
DESCRIPTION: 
URL:https://zen4blue.org/event/charity-bingo2/
CATEGORIES:Fundraisers
ATTACH;FMTTYPE=image/png:https://zen4blue.org/wp-content/uploads/2024/09/Adventurers-Coffee-Bingo-Night-Event-Square-.png
END:VEVENT
BEGIN:VEVENT
DTSTART;TZID=America/New_York:20240910T180000
DTEND;TZID=America/New_York:20240910T200000
DTSTAMP:20260422T203832
CREATED:20250125T184747Z
LAST-MODIFIED:20250125T184758Z
UID:3209-1725991200-1725998400@zen4blue.org
SUMMARY:Zen4Blue Night
DESCRIPTION: 
URL:https://zen4blue.org/event/zen4blue-night/
CATEGORIES:Fundraisers
ATTACH;FMTTYPE=image/png:https://zen4blue.org/wp-content/uploads/2024/08/Zen4blue-Night-at-Beachfly-Brewing.png
END:VEVENT
BEGIN:VEVENT
DTSTART;VALUE=DATE:20240901
DTEND;VALUE=DATE:20241001
DTSTAMP:20260422T203832
CREATED:20250125T182517Z
LAST-MODIFIED:20250125T182517Z
UID:3186-1725148800-1727740799@zen4blue.org
SUMMARY:Beach Clean Bingo - Virtual Event
DESCRIPTION: 
URL:https://zen4blue.org/event/beachbingo/
CATEGORIES:Fundraisers
ATTACH;FMTTYPE=image/png:https://zen4blue.org/wp-content/uploads/2024/09/Virtual-Bingo.png
END:VEVENT
BEGIN:VEVENT
DTSTART;TZID=America/New_York:20230812T080000
DTEND;TZID=America/New_York:20230812T170000
DTSTAMP:20260422T203832
CREATED:20250125T190025Z
LAST-MODIFIED:20250125T190025Z
UID:3219-1691827200-1691859600@zen4blue.org
SUMMARY:Zen4Blue Benicia Peddlers Fair!
DESCRIPTION: 
URL:https://zen4blue.org/event/zen4blue-benicia-peddlers-fair/
CATEGORIES:Fundraisers
ATTACH;FMTTYPE=image/png:https://zen4blue.org/wp-content/uploads/2025/01/Z4B_1080x1080_Insta_PeddlersFair.png
END:VEVENT
BEGIN:VEVENT
DTSTART;TZID=America/New_York:20230609T180000
DTEND;TZID=America/New_York:20230609T200000
DTSTAMP:20260422T203832
CREATED:20250125T185511Z
LAST-MODIFIED:20250125T190127Z
UID:3214-1686333600-1686340800@zen4blue.org
SUMMARY:Zen4Blue World Ocean Day Fashion Show CA
DESCRIPTION: 
URL:https://zen4blue.org/event/zen4blue-world-ocean-day-fashion-show/
CATEGORIES:Fundraisers
ATTACH;FMTTYPE=image/png:https://zen4blue.org/wp-content/uploads/2023/05/Z4B_1080x1080_Insta_WOD23_Fashionshow_website.png
END:VEVENT
BEGIN:VEVENT
DTSTART;TZID=America/New_York:20230608T160000
DTEND;TZID=America/New_York:20230608T200000
DTSTAMP:20260422T203832
CREATED:20250125T185751Z
LAST-MODIFIED:20250125T185751Z
UID:3216-1686240000-1686254400@zen4blue.org
SUMMARY:Zen4Blue Sea Swag Launch CA
DESCRIPTION: 
URL:https://zen4blue.org/event/zen4blue-sea-swag-launch-ca/
CATEGORIES:Fundraisers
ATTACH;FMTTYPE=image/png:https://zen4blue.org/wp-content/uploads/2025/01/Z4B_1080x1080_Insta_FarmersMarketWOD.png
END:VEVENT
END:VCALENDAR